BEGIN:VCALENDAR
VERSION:2.0
PRODID:-//203.170.86.145//NONSGML kigkonsult.se iCalcreator 2.20//
CALSCALE:GREGORIAN
METHOD:PUBLISH
X-WR-CALNAME:ADAA
X-WR-CALDESC:Auckland District Archery Association
X-FROM-URL:http://www.adaa.co.nz
X-WR-TIMEZONE:Pacific/Auckland
BEGIN:VTIMEZONE
TZID:Pacific/Auckland
X-LIC-LOCATION:Pacific/Auckland
BEGIN:STANDARD
DTSTART:20180401T030000
TZOFFSETFROM:+1300
TZOFFSETTO:+1200
TZNAME:NZST
END:STANDARD
BEGIN:DAYLIGHT
DTSTART:20170924T020000
TZOFFSETFROM:+1200
TZOFFSETTO:+1300
TZNAME:NZDT
END:DAYLIGHT
END:VTIMEZONE
BEGIN:VEVENT
UID:ai1ec-603@www.adaa.co.nz
DTSTAMP:20180123T142220Z
CATEGORIES;LANGUAGE=en:ADAA
CONTACT:Caro Geelen\; adaa.secretary@gmail.com
DESCRIPTION:THE 600 SHOOT HAS BEEN MOVED TO MOUNTAIN GREEN ARCHERY CLUB. \n
 The 600 shoot is free to join\, starts at 1pm\, with shooting commencing n
 o later than 1.30pm\, and district records will be maintained. Ribbons can
  be only be claimed by any archer who is a member of an ADAA club.\nThe sh
 oot is 90 arrows at 30 metres. All archers begin on a 122cm target face. O
 nce an archer has shot 600 points or greater on that target face\, the nex
 t shoot they must drop their target face size to 80cm\, then 60cm\, then 4
 0cm. Archers who proceed beyond this point may opt to shoot a 20cm spot.
DTSTART;TZID=Pacific/Auckland:20171118T130000
DTEND;TZID=Pacific/Auckland:20171118T163000
GEO:-36.89042;+174.719647
LOCATION:Mountain Green Archery Club @ Summit Dr\, Mount Albert\, Auckland 
 1025\, New Zealand
SEQUENCE:0
SUMMARY:600 Round – Mountain Green
URL:http://www.adaa.co.nz/event/600-round-mercury-bay/
X-COST-TYPE:free
X-ALT-DESC;FMTTYPE=text/html:<!DOCTYPE HTML PUBLIC '-//W3C//DTD HTML 3.2//E
 N'>\\n<HTML>\\n<HEAD>\\n<TITLE></TITLE>\\n</HEAD>\\n<BODY><p><strong>THE 6
 00 SHOOT HAS BEEN MOVED TO MOUNTAIN GREEN ARCHERY CLUB. </strong></p>\n<p>
 The 600 shoot is free to join\, starts at 1pm\, with shooting commencing n
 o later than 1.30pm\, and district records will be maintained. Ribbons can
  be only be claimed by any archer who is a member of an ADAA club.</p>\n<p
 >The shoot is 90 arrows at 30 metres. All archers begin on a 122cm target 
 face. Once an archer has shot 600 points or greater on that target face\, 
 the next shoot they must drop their target face size to 80cm\, then 60cm\,
  then 40cm. Archers who proceed beyond this point may opt to shoot a 20cm 
 spot.</p>\n</BODY></HTML>
X-TAGS;LANGUAGE=en:archery\,novice\,ribbon\,shoot
END:VEVENT
END:VCALENDAR
